BEGIN:VCALENDAR
VERSION:2.0
PRODID:-//bürgerbündnis - ECPv6.3.7//NONSGML v1.0//EN
CALSCALE:GREGORIAN
METHOD:PUBLISH
X-ORIGINAL-URL:https://www.buergerbuendnis-gruenheide.de
X-WR-CALDESC:Veranstaltungen für bürgerbündnis
REFRESH-INTERVAL;VALUE=DURATION:PT1H
X-Robots-Tag:noindex
X-PUBLISHED-TTL:PT1H
BEGIN:VTIMEZONE
TZID:Europe/Berlin
BEGIN:DAYLIGHT
TZOFFSETFROM:+0100
TZOFFSETTO:+0200
TZNAME:CEST
DTSTART:20190331T010000
END:DAYLIGHT
BEGIN:STANDARD
TZOFFSETFROM:+0200
TZOFFSETTO:+0100
TZNAME:CET
DTSTART:20191027T010000
END:STANDARD
END:VTIMEZONE
BEGIN:VEVENT
DTSTART;TZID=Europe/Berlin:20191129T180000
DTEND;TZID=Europe/Berlin:20191129T220000
DTSTAMP:20260421T142133
CREATED:20191116T182907Z
LAST-MODIFIED:20191116T183115Z
UID:1160-1575050400-1575064800@www.buergerbuendnis-gruenheide.de
SUMMARY:BürgerDIALOG vor Ort - Ortsentwicklung und aktuelle Ereignisse
DESCRIPTION:am Freitag\, 29.11.2019 ab 18 Uhr Bürgerhaus Hangelsberg (Saal) \nzum Thema “Ortsentwicklung und aktuelle Ereignisse” \n\n\n\nDie aktuellen Ereignisse überschlagen sich. Darum wollen wir jetzt schnell die Anliegen der Bürger sammeln und in dem schnell anlaufenden Prozess anbringen\, um die Entwicklung unserer Gemeinde möglichst positiv zu beeinflussen! \n\n\n\nUnser Ort – wir reden mit! Für eine Politik im Sinne der Bürger Kompetente Beteiligung an Kommunalpolitik Das bürgerbündnis ist eine Wählergruppe und offene Liste von Bürgerinnen und Bürgern. Wir sind Menschen mit unterschiedlichen parteipolitischen Zugehörigskeiten bzw. ohne jede parteipolitische Bindung. Unser zentrales Ziel ist es\, die Kommunalpolitik in unserem Ort und der Gemeinde aktiv zu gestalten. \n\n\n\nBürger jeden Alters sind willkommen zu unseren regelmäßigen Gesprächen in den Ortsteilen der Gemeinde. In ungezwungener Atmosphäre kann jeder mitreden\, bestehende Themen aufgreifen oder neue anstoßen.
URL:https://www.buergerbuendnis-gruenheide.de/event/buergerdialog-vor-ort-ortsentwicklung-und-aktuelle-ereignisse/
LOCATION:Bürgerhaus Hangelsberg\, Hangelsberg\, 15537\, Deutschland
CATEGORIES:BürgerDIALOG
ATTACH;FMTTYPE=image/jpeg:https://www.buergerbuendnis-gruenheide.de/wp-content/uploads/car-1209912_1920.jpg
END:VEVENT
BEGIN:VEVENT
DTSTART;TZID=Europe/Berlin:20190412T180000
DTEND;TZID=Europe/Berlin:20190412T210000
DTSTAMP:20260421T142133
CREATED:20190127T134234Z
LAST-MODIFIED:20190127T134234Z
UID:746-1555092000-1555102800@www.buergerbuendnis-gruenheide.de
SUMMARY:BürgerDIALOG vor Ort - das 1. Mal in Spreeau
DESCRIPTION:am Freitag\, 12.04.2019 ab 18 Uhr Bürgerhaus Spreeau \n\n\nUnser Ort – wir reden mit! Für eine Politik im Sinne der Bürger Kompetente Beteiligung an Kommunalpolitik\n\n\n\nDas bürgerbündnis ist eine Wählergruppe und offene Liste von Bürgerinnen und Bürgern. Wir sind Menschen mit unterschiedlichen parteipolitischen Zugehörigskeiten bzw. ohne jede parteipolitische Bindung. Unser zentrales Ziel ist es\, die Kommunalpolitik in unserem Ort und der Gemeinde aktiv zu gestalten.\n\n\n\nBürger jeden Alters sind willkommen zu unseren regelmäßigen Gesprächen in den Ortsteilen der Gemeinde. In ungezwungener Atmosphäre kann jeder mitreden\, bestehende Themen aufgreifen oder neue anstoßen.\n\n\n\nBürgerDIALOG vor Ort wird regelmäßig und in allen Ortsteilen der Gemeinde stattfinden.
URL:https://www.buergerbuendnis-gruenheide.de/event/buergerdialog-vor-ort-das-1-mal-in-spreeau/
END:VEVENT
BEGIN:VEVENT
DTSTART;TZID=Europe/Berlin:20190329T180000
DTEND;TZID=Europe/Berlin:20190329T210000
DTSTAMP:20260421T142133
CREATED:20190127T133755Z
LAST-MODIFIED:20190127T134254Z
UID:744-1553882400-1553893200@www.buergerbuendnis-gruenheide.de
SUMMARY:BürgerDIALOG vor Ort - das 1. Mal in Mönchwinkel
DESCRIPTION:am Freitag\, 29.03.2019 ab 18 Uhr Bürgerhaus Mönchwinkel \n\n\n\nUnser Ort – wir reden mit! Für eine Politik im Sinne der Bürger Kompetente Beteiligung an Kommunalpolitik \n\n\n\nDas bürgerbündnis ist eine Wählergruppe und offene Liste von Bürgerinnen und Bürgern. Wir sind Menschen mit unterschiedlichen parteipolitischen Zugehörigskeiten bzw. ohne jede parteipolitische Bindung. Unser zentrales Ziel ist es\, die Kommunalpolitik in unserem Ort und der Gemeinde aktiv zu gestalten. \n\n\n\nBürger jeden Alters sind willkommen zu unseren regelmäßigen Gesprächen in den Ortsteilen der Gemeinde. In ungezwungener Atmosphäre kann jeder mitreden\, bestehende Themen aufgreifen oder neue anstoßen. \n\n\n\nBürgerDIALOG vor Ort wird regelmäßig und in allen Ortsteilen der Gemeinde stattfinden.
URL:https://www.buergerbuendnis-gruenheide.de/event/buergerdialog-vor-ort-das-1-mal-in-moenchwinkel/
END:VEVENT
BEGIN:VEVENT
DTSTART;TZID=Europe/Berlin:20190315T180000
DTEND;TZID=Europe/Berlin:20190315T210000
DTSTAMP:20260421T142133
CREATED:20190127T133247Z
LAST-MODIFIED:20190127T134314Z
UID:741-1552672800-1552683600@www.buergerbuendnis-gruenheide.de
SUMMARY:BürgerDIALOG vor Ort - das 1. Mal in Kienbaum
DESCRIPTION:am Freitag\, 15.03.2019 ab 18 Uhr Bürgerhaus Kienbaum \n\n\n\nUnser Ort – wir reden mit! Für eine Politik im Sinne der Bürger Kompetente Beteiligung an Kommunalpolitik \n\n\n\nDas bürgerbündnis ist eine Wählergruppe und offene Liste von Bürgerinnen und Bürgern. Wir sind Menschen mit unterschiedlichen parteipolitischen Zugehörigskeiten bzw. ohne jede parteipolitische Bindung. Unser zentrales Ziel ist es\, die Kommunalpolitik in unserem Ort und der Gemeinde aktiv zu gestalten. \n\n\n\nBürger jeden Alters sind willkommen zu unseren regelmäßigen Gesprächen in den Ortsteilen der Gemeinde. In ungezwungener Atmosphäre kann jeder mitreden\, bestehende Themen aufgreifen oder neue anstoßen. \n\n\n\nBürgerDIALOG vor Ort wird regelmäßig und in allen Ortsteilen der Gemeinde stattfinden.
URL:https://www.buergerbuendnis-gruenheide.de/event/buergerdialog-vor-ort-das-1-mal-in-kienbaum/
END:VEVENT
BEGIN:VEVENT
DTSTART;TZID=Europe/Berlin:20190311T180000
DTEND;TZID=Europe/Berlin:20190311T210000
DTSTAMP:20260421T142133
CREATED:20190127T133114Z
LAST-MODIFIED:20190127T133114Z
UID:739-1552327200-1552338000@www.buergerbuendnis-gruenheide.de
SUMMARY:BürgerDIALOG vor Ort - das 1. Mal in Kagel
DESCRIPTION:am Montag\, 11.03.2019 ab 18 Uhr Bürgerhaus Kagel \n\n\nUnser Ort – wir reden mit! Für eine Politik im Sinne der Bürger Kompetente Beteiligung an Kommunalpolitik\n\n\n\nDas bürgerbündnis ist eine Wählergruppe und offene Liste von Bürgerinnen und Bürgern. Wir sind Menschen mit unterschiedlichen parteipolitischen Zugehörigskeiten bzw. ohne jede parteipolitische Bindung. Unser zentrales Ziel ist es\, die Kommunalpolitik in unserem Ort und der Gemeinde aktiv zu gestalten.\n\n\n\nBürger jeden Alters sind willkommen zu unseren regelmäßigen Gesprächen in den Ortsteilen der Gemeinde. In ungezwungener Atmosphäre kann jeder mitreden\, bestehende Themen aufgreifen oder neue anstoßen.\n\n\n\nBürgerDIALOG vor Ort wird regelmäßig und in allen Ortsteilen der Gemeinde stattfinden.
URL:https://www.buergerbuendnis-gruenheide.de/event/buergerdialog-vor-ort-das-1-mal-in-kagel/
END:VEVENT
BEGIN:VEVENT
DTSTART;TZID=Europe/Berlin:20190302T100000
DTEND;TZID=Europe/Berlin:20190302T160000
DTSTAMP:20260421T142133
CREATED:20190227T213419Z
LAST-MODIFIED:20190227T213419Z
UID:876-1551520800-1551542400@www.buergerbuendnis-gruenheide.de
SUMMARY:Anhängerversammlung gemäß §33 des Brandenburgischen Kommunalwahlgesetzes
DESCRIPTION:Termin: Samstag\, 02.03.2019\nZeit: 10:00 Uhr\nOrt: Robert-Havemann-Klubhaus\, An der Alten Schule 2\, 15537 Grünheide (Mark) \nTagesordnung: \n\nBegrüßung durch den Vertretungsberechtigten und Bestimmung des Versammlungsleiters\nFeststellung der Tagesordnung\nBeschluss über die Wahlordnung\nWahl einer Wahlkommission\nBestimmung der Vertrauensperson und ihres Stellvertreters gemäß §31 Brandenburgisches Kommunalwahlgesetz\nWahlen zur Bestimmung der Bewerber sowie ihrer\nReihenfolge (Gemeindevertretung\, Ortsbeiräte-§33Bbg KWahlG) für die Kommunalwahl 2019\nSonstiges\n\nUlrich Kohlmann \nVertretungsberechtigter der Wählergruppe bürgerbündnis\nGrünheide (Mark)\, 01.02.2019
URL:https://www.buergerbuendnis-gruenheide.de/event/anhaengerversammlung-gemaess-%c2%a733-des-brandenburgischen-kommunalwahlgesetzes/
LOCATION:Robert-Havemann-Klubhaus Grünheide\, An der Alten Schule 2\, Grünheide (Mark)\, 15537\, Deutschland
END:VEVENT
BEGIN:VEVENT
DTSTART;TZID=Europe/Berlin:20190215T180000
DTEND;TZID=Europe/Berlin:20190215T210000
DTSTAMP:20260421T142133
CREATED:20190127T131505Z
LAST-MODIFIED:20190127T131505Z
UID:735-1550253600-1550264400@www.buergerbuendnis-gruenheide.de
SUMMARY:BürgerDIALOG vor Ort - das 1. Mal in Grünheide
DESCRIPTION:am Freitag\, 15.02.2019 ab 18 Uhr im Robert-Havemann-Klubhaus in Grünheide\, EG links \n\n\nUnser Ort – wir reden mit! Für eine Politik im Sinne der Bürger Kompetente Beteiligung an Kommunalpolitik\n\n\n\nDas bürgerbündnis ist eine Wählergruppe und offene Liste von Bürgerinnen und Bürgern. Wir sind Menschen mit unterschiedlichen parteipolitischen Zugehörigskeiten bzw. ohne jede parteipolitische Bindung. Unser zentrales Ziel ist es\, die Kommunalpolitik in unserem Ort und der Gemeinde aktiv zu gestalten.\n\n\n\nBürger jeden Alters sind willkommen zu unseren regelmäßigen Gesprächen in den Ortsteilen der Gemeinde. In ungezwungener Atmosphäre kann jeder mitreden\, bestehende Themen aufgreifen oder neue anstoßen.\n\n\n\nBürgerDIALOG vor Ort wird regelmäßig und in allen Ortsteilen der Gemeinde stattfinden.
URL:https://www.buergerbuendnis-gruenheide.de/event/buergerdialog-vor-ort-das-1-mal-in-gruenheide/
CATEGORIES:BürgerDIALOG
END:VEVENT
BEGIN:VEVENT
DTSTART;TZID=Europe/Berlin:20190201T180000
DTEND;TZID=Europe/Berlin:20190201T210000
DTSTAMP:20260421T142133
CREATED:20190126T204707Z
LAST-MODIFIED:20190127T131343Z
UID:731-1549044000-1549054800@www.buergerbuendnis-gruenheide.de
SUMMARY:BürgerDIALOG vor Ort - das 1. Mal in Hangelsberg
DESCRIPTION:am Freitag\, 01.02.2019 ab 18 Uhr Bürgerhaus Hangelsberg – Nebeneingang 1. OG \n\n\n\nUnser Ort – wir reden mit! Für eine Politik im Sinne der Bürger Kompetente Beteiligung an Kommunalpolitik \n\n\n\nDas bürgerbündnis ist eine Wählergruppe und offene Liste von Bürgerinnen und Bürgern. Wir sind Menschen mit unterschiedlichen parteipolitischen Zugehörigskeiten bzw. ohne jede parteipolitische Bindung. Unser zentrales Ziel ist es\, die Kommunalpolitik in unserem Ort und der Gemeinde aktiv zu gestalten. \n\n\n\nBürger jeden Alters sind willkommen zu unseren regelmäßigen Gesprächen in den Ortsteilen der Gemeinde. In ungezwungener Atmosphäre kann jeder mitreden\, bestehende Themen aufgreifen oder neue anstoßen. \n\n\n\nBürgerDIALOG vor Ort wird regelmäßig und in allen Ortsteilen der Gemeinde stattfinden.
URL:https://www.buergerbuendnis-gruenheide.de/event/buergerdialog-vor-ort-das-1-mal-in-hangelsberg/
LOCATION:Bürgerhaus Hangelsberg\, Hangelsberg\, 15537\, Deutschland
CATEGORIES:BürgerDIALOG
END:VEVENT
END:VCALENDAR